BEGIN:VCALENDAR
VERSION:2.0
PRODID:-//Plone.org//NONSGML plone.app.event//EN
X-WR-TIMEZONE:Europe/Vienna
BEGIN:VEVENT
SUMMARY:transversale 2012: à propos félix... – Politik | Poetik | Ther
 apie
DTSTART;VALUE=DATE:20121012
DTEND;VALUE=DATE:20121014
DTSTAMP:20260424T041228Z
UID:effb98a280365d040169abbb2e808e43@www.akbild.ac.at
CATEGORIES:Vorträge / Veranstaltungen
CREATED:20220311T231825Z
DESCRIPTION:Symposium von Wolfgang Neurath und FAS.Research in Kooperation
  mit dem Institut für Kunst- und Kulturwissenschaften.\n \n Teilnahme kos
 tenlos!\n \n Keine Voranmeldung erforderlich
LAST-MODIFIED:20240919T081102Z
URL:https://www.akbild.ac.at/de/universitaet/veranstaltungen/vortraege-eve
 nts/2012/akbild_event.2012-09-24.9638560875
END:VEVENT
END:VCALENDAR
