BEGIN:VCALENDAR
VERSION:2.0
PRODID:-//Plone.org//NONSGML plone.app.event//EN
X-WR-TIMEZONE:Europe/Vienna
BEGIN:VEVENT
SUMMARY:Konferenz: Dildo Anus Macht: Queere Abstraktion
DTSTART;VALUE=DATE:20121122
DTEND;VALUE=DATE:20121125
DTSTAMP:20260422T205925Z
UID:610b4eaed81d20fd711cdcb14da656d8@www.akbild.ac.at
CATEGORIES:Vorträge / Veranstaltungen
CREATED:20220311T231843Z
DESCRIPTION:mit Vorträgen\, Artist Talks\, Ausstellungsführung\, Perform
 ances\, Workshops\, Filmprogramm und Clubbings
LAST-MODIFIED:20240919T081102Z
URL:https://www.akbild.ac.at/de/universitaet/veranstaltungen/vortraege-eve
 nts/2012/akbild_event.2012-10-14.5961298354
END:VEVENT
END:VCALENDAR
