BEGIN:VCALENDAR
VERSION:2.0
PRODID:-//Plone.org//NONSGML plone.app.event//EN
X-WR-TIMEZONE:Europe/Vienna
BEGIN:VEVENT
SUMMARY:Kunst-Theorie-Aktivismus. Strategische Verbindungen für antidiskr
 iminatorische Praxen
DTSTART;TZID=Europe/Vienna:20130116T170000
DTSTAMP:20260423T230157Z
UID:feb9c3b25f0184750b94e5c24ef2c7bf@www.akbild.ac.at
CATEGORIES:Vorträge / Veranstaltungen
CREATED:20220311T231938Z
DESCRIPTION:Workshop mit Soma Ahmad\, Petja Dimitrova\, Alex Fleischmann  
 und Doris Guth im Rahmen der Ringvorlesung "Kunst - Theorie - Aktivismus |
  Strategische Verbindungen für antidiskriminatorische Praxen" des Netzwer
 kes für Frauenförderung und des Arbeitskreises für Gleichbehandlungsfra
 gen.
LAST-MODIFIED:20240919T081052Z
URL:https://www.akbild.ac.at/de/universitaet/veranstaltungen/vortraege-eve
 nts/2013/akbild_event.2012-10-04.9917281898
END:VEVENT
BEGIN:VTIMEZONE
TZID:Europe/Vienna
X-LIC-LOCATION:Europe/Vienna
BEGIN:STANDARD
DTSTART:20121028T020000
TZNAME:CET
TZOFFSETFROM:+0200
TZOFFSETTO:+0100
END:STANDARD
END:VTIMEZONE
END:VCALENDAR
