BEGIN:VCALENDAR
VERSION:2.0
PRODID:-//Plone.org//NONSGML plone.app.event//EN
X-WR-TIMEZONE:Europe/Vienna
BEGIN:VEVENT
SUMMARY:The Meeting | On the Life and Work of Karl Spörk
DTSTART;TZID=Europe/Vienna:20130426T183000
DTSTAMP:20260424T004112Z
UID:379453b2471b8479bcac4def96e92332@www.akbild.ac.at
CATEGORIES:Vorträge / Veranstaltungen
CREATED:20220311T232101Z
DESCRIPTION:SCHLEBRÜGGE.EDITOR und Dorothea Brunialti laden herzlich ein 
 zur Buchpräsentation
LAST-MODIFIED:20240919T081052Z
URL:https://www.akbild.ac.at/de/universitaet/veranstaltungen/vortraege-eve
 nts/2013/akbild_event.2013-04-11.5488542492
END:VEVENT
BEGIN:VTIMEZONE
TZID:Europe/Vienna
X-LIC-LOCATION:Europe/Vienna
BEGIN:DAYLIGHT
DTSTART:20130331T030000
TZNAME:CEST
TZOFFSETFROM:+0100
TZOFFSETTO:+0200
END:DAYLIGHT
END:VTIMEZONE
END:VCALENDAR
