BEGIN:VCALENDAR
VERSION:2.0
PRODID:-//Plone.org//NONSGML plone.app.event//EN
X-WR-TIMEZONE:Europe/Vienna
BEGIN:VEVENT
SUMMARY:Karlstag | Tag der offenen Türen am Kunstplatz Karlsplatz
DTSTART;VALUE=DATE:20130614
DTEND;VALUE=DATE:20130615
DTSTAMP:20260423T084458Z
UID:ae781cf8130fe69c8da2e020a3c5f1e2@www.akbild.ac.at
CATEGORIES:Vorträge / Veranstaltungen
CREATED:20220311T232346Z
DESCRIPTION:Der Kunstplatz Karlsplatz feiert sich und seine zahlreichen Ku
 nst-\, Kultur- und Bildungsinstitutionen bereits zum sechsten Mal mit eine
 m Tag der offenen Türen und einem Fest am Teich.
LAST-MODIFIED:20240919T081055Z
URL:https://www.akbild.ac.at/de/universitaet/veranstaltungen/vortraege-eve
 nts/2013/akbild_event.2013-05-27.8008689362
END:VEVENT
END:VCALENDAR
