BEGIN:VCALENDAR
VERSION:2.0
PRODID:-//Plone.org//NONSGML plone.app.event//EN
X-WR-TIMEZONE:Europe/Vienna
BEGIN:VEVENT
SUMMARY:The Last Time. Critical Reflections on Art Biennials
DTSTART;TZID=Europe/Vienna:20131001T200000
DTSTAMP:20260424T201827Z
UID:5730492be324156a8ad0aca6d860d2ec@www.akbild.ac.at
CATEGORIES:Vorträge / Veranstaltungen
CREATED:20220311T232202Z
DESCRIPTION:Vortrag von Dr. Danila Mayer\, Wien (mit Videomaterial der Bie
 nnale in Venedig und der Istanbul Biennale). Eine Veranstaltung des Fachbe
 reichs Konzeptuelle Kunst am Institut für bildende Kunst im Rahmen von Po
 st Conceptual Art Practices (PCAP) - Open Critical Debates on Visual and T
 heoretical productions: “Images\, Theory\, Politics\, and Activism”
LAST-MODIFIED:20240919T081055Z
URL:https://www.akbild.ac.at/de/universitaet/veranstaltungen/vortraege-eve
 nts/2013/akbild_event.2013-09-19.6438976656
END:VEVENT
BEGIN:VTIMEZONE
TZID:Europe/Vienna
X-LIC-LOCATION:Europe/Vienna
BEGIN:DAYLIGHT
DTSTART:20130331T030000
TZNAME:CEST
TZOFFSETFROM:+0100
TZOFFSETTO:+0200
END:DAYLIGHT
END:VTIMEZONE
END:VCALENDAR
