BEGIN:VCALENDAR
VERSION:2.0
PRODID:-//Plone.org//NONSGML plone.app.event//EN
X-WR-TIMEZONE:Europe/Vienna
BEGIN:VEVENT
SUMMARY:Internationale Konferenz: THE GIRL ON ‚SUBJECT’=???
DTSTART;VALUE=DATE:20131122
DTEND;VALUE=DATE:20131124
DTSTAMP:20260425T164925Z
UID:b3e7724df7f8a83d49de08d942ab860a@www.akbild.ac.at
CATEGORIES:Vorträge / Veranstaltungen
CREATED:20220311T232222Z
DESCRIPTION:Eine Veranstaltung im Rahmen des Themenschwerpunktes "Künstle
 r_in\, Performer_in\, Mädchen. Welten künstlerischer De-/Subjektivierung
 ". In englischer Sprache.
LAST-MODIFIED:20240919T081055Z
URL:https://www.akbild.ac.at/de/universitaet/veranstaltungen/vortraege-eve
 nts/2013/akbild_event.2013-09-25.1354155575
END:VEVENT
END:VCALENDAR
