BEGIN:VCALENDAR
VERSION:2.0
PRODID:-//Plone.org//NONSGML plone.app.event//EN
X-WR-TIMEZONE:Europe/Vienna
BEGIN:VEVENT
SUMMARY:(out of) position | Pah\, große Kunst\, wendet der Alltag ein.
DTSTART;TZID=Europe/Vienna:20140107T180000
DTSTAMP:20260423T083316Z
UID:dca4593f14b7e24ba4def73391c1ad3e@www.akbild.ac.at
CATEGORIES:Vorträge / Veranstaltungen
CREATED:20220311T232354Z
DESCRIPTION:Chambre d'amis - Raum für aktuelle Kunst\n \n Eine Ausstellun
 g von Frank Hagen. Veranstaltet vom Institut für bildende Kunst\, Video u
 nd Videoinstallation.
LAST-MODIFIED:20240919T081045Z
URL:https://www.akbild.ac.at/de/universitaet/veranstaltungen/vortraege-eve
 nts/2014/akbild_event.2014-01-07.0467747981
END:VEVENT
BEGIN:VTIMEZONE
TZID:Europe/Vienna
X-LIC-LOCATION:Europe/Vienna
BEGIN:STANDARD
DTSTART:20131027T020000
TZNAME:CET
TZOFFSETFROM:+0200
TZOFFSETTO:+0100
END:STANDARD
END:VTIMEZONE
END:VCALENDAR
