BEGIN:VCALENDAR
VERSION:2.0
PRODID:-//Plone.org//NONSGML plone.app.event//EN
X-WR-TIMEZONE:Europe/Vienna
BEGIN:VEVENT
SUMMARY:The Syrian Conflict and the Promotion of Reconciliation and its Im
 plications for International Security
DTSTART;VALUE=DATE:20140206
DTEND;VALUE=DATE:20140208
DTSTAMP:20260423T211408Z
UID:595bacdcd8c97692321e84754bf3c297@www.akbild.ac.at
CATEGORIES:Vorträge / Veranstaltungen
CREATED:20220311T232536Z
DESCRIPTION:Conference organized by the Institute for Near Eastern Studies
  (University of Vienna)\, Terrorism Research Initiative and the University
  of Massachusetts\, Lowell.\n \n Conference Language is English.
LAST-MODIFIED:20240919T081048Z
URL:https://www.akbild.ac.at/de/universitaet/veranstaltungen/vortraege-eve
 nts/2014/akbild_event.2014-01-22.2615979641
END:VEVENT
END:VCALENDAR
