BEGIN:VCALENDAR
VERSION:2.0
PRODID:-//Plone.org//NONSGML plone.app.event//EN
X-WR-TIMEZONE:Europe/Vienna
BEGIN:VEVENT
SUMMARY:Privatsammlungen in Öffentlicher Hand?
DTSTART;TZID=Europe/Vienna:20140312T190000
DTSTAMP:20260423T084606Z
UID:a1db83a3397026194835b628017e87ab@www.akbild.ac.at
CATEGORIES:Vorträge / Veranstaltungen
CREATED:20220311T232536Z
DESCRIPTION:Eine Kooperationsveranstaltung der Universität für angewandt
 e Kunst und der Akademie der bildenden Künste Wien\n \n \n Teilnehmer_inn
 en: Eva Blimlinger\, Sabeth Buchmann\, Dieter Bogner\, Eva Kernbauer\, Kar
 ola Kraus\, Doris Krüger\, Oswald Oberhuber\, Eva Maria Stadler
LAST-MODIFIED:20240919T081048Z
URL:https://www.akbild.ac.at/de/universitaet/veranstaltungen/vortraege-eve
 nts/2014/akbild_event.2014-02-27.9954211545
END:VEVENT
BEGIN:VTIMEZONE
TZID:Europe/Vienna
X-LIC-LOCATION:Europe/Vienna
BEGIN:STANDARD
DTSTART:20131027T020000
TZNAME:CET
TZOFFSETFROM:+0200
TZOFFSETTO:+0100
END:STANDARD
END:VTIMEZONE
END:VCALENDAR
