BEGIN:VCALENDAR
VERSION:2.0
PRODID:-//Plone.org//NONSGML plone.app.event//EN
X-WR-TIMEZONE:Europe/Vienna
BEGIN:VEVENT
SUMMARY:KinderuniKunst 2014 an der Akademie der bildenden Künste Wien
DTSTART;VALUE=DATE:20140630
DTEND;VALUE=DATE:20140705
DTSTAMP:20260425T025055Z
UID:958d0838aac999b76afebef389ff6d35@www.akbild.ac.at
CATEGORIES:Vorträge / Veranstaltungen
CREATED:20220311T232629Z
DESCRIPTION:Anmeldephase: 19.5.2014 ab 10 Uhr bis 25.6.2014
LAST-MODIFIED:20240919T081048Z
URL:https://www.akbild.ac.at/de/universitaet/veranstaltungen/vortraege-eve
 nts/2014/akbild_event.2014-05-16.8517690767
END:VEVENT
END:VCALENDAR
