BEGIN:VCALENDAR
VERSION:2.0
PRODID:-//Plone.org//NONSGML plone.app.event//EN
X-WR-TIMEZONE:Europe/Vienna
BEGIN:VEVENT
SUMMARY:auf tönernen füssen
DTSTART;TZID=Europe/Vienna:20140612T190000
DTSTAMP:20260423T192955Z
UID:7eede5e9d2efb183bf9ce230f5462208@www.akbild.ac.at
CATEGORIES:Vorträge / Veranstaltungen
CREATED:20220311T232613Z
DESCRIPTION:Anlässlich ihres bevorstehenden 90.Geburtstags würdigt die A
 kademie der bildenden Künste Wien ihr Ehrenmitglied mit einem Festakt.
LAST-MODIFIED:20240919T081048Z
URL:https://www.akbild.ac.at/de/universitaet/veranstaltungen/vortraege-eve
 nts/2014/auf-toenernen-fuessen
END:VEVENT
BEGIN:VTIMEZONE
TZID:Europe/Vienna
X-LIC-LOCATION:Europe/Vienna
BEGIN:DAYLIGHT
DTSTART:20140330T030000
TZNAME:CEST
TZOFFSETFROM:+0100
TZOFFSETTO:+0200
END:DAYLIGHT
END:VTIMEZONE
END:VCALENDAR
