BEGIN:VCALENDAR
VERSION:2.0
PRODID:-//Plone.org//NONSGML plone.app.event//EN
X-WR-TIMEZONE:Europe/Vienna
BEGIN:VEVENT
SUMMARY:Commoning the City
DTSTART;VALUE=DATE:20140623
DTEND;VALUE=DATE:20140630
DTSTAMP:20260425T225718Z
UID:3ef9bde6aabd45db0637e41bd0a985c7@www.akbild.ac.at
CATEGORIES:Vorträge / Veranstaltungen
CREATED:20220311T232626Z
DESCRIPTION:WWTF International Summer School 2014. The Summer School is or
 ganized by "Spaces of Commoning"\, an  interdisciplinary research collecti
 ve based at the Academy of Fine Arts  Vienna and funded by the WWTF (Vienn
 a Science and Technology Fund).
LAST-MODIFIED:20240919T081048Z
URL:https://www.akbild.ac.at/de/universitaet/veranstaltungen/vortraege-eve
 nts/2014/commoning-the-city
END:VEVENT
END:VCALENDAR
