BEGIN:VCALENDAR
VERSION:2.0
PRODID:-//Plone.org//NONSGML plone.app.event//EN
X-WR-TIMEZONE:Europe/Vienna
BEGIN:VEVENT
SUMMARY:Akademie Wintermarkt
DTSTART;VALUE=DATE:20141206
DTEND;VALUE=DATE:20141208
DTSTAMP:20260422T081918Z
UID:c50e6e1c87120fdafd6e4fb4dc52891f@www.akbild.ac.at
CATEGORIES:Vorträge / Veranstaltungen
CREATED:20220311T232658Z
DESCRIPTION:Akademie Wintermarkt: Solidarischer Kunst &amp\; Designmarkt\n
  \n Organisation: Der Wintermarkt wird über die ÖH-Akbild unter der\n \n
  Projektleitung durch den Verein „re:active“ als Solidaritäts-Veranst
 altung für die NGO „KAMA – Kursangebote mit\n \n Asylwerber_innen“ 
 organisiert.\n\n\n Öffnungszeiten: jeweils 11 bis 20 Uhr\n \n Abendprogra
 mm: jeweils ab 17 Uhr\n \n Samstag: Drumbock // Pablito Popescu\n \n Sonnt
 ag: Beyond the Trees // Sain Mus
LAST-MODIFIED:20240919T081052Z
URL:https://www.akbild.ac.at/de/universitaet/veranstaltungen/vortraege-eve
 nts/2014/copy_of_akademie-wintermarkt
END:VEVENT
END:VCALENDAR
