BEGIN:VCALENDAR
VERSION:2.0
PRODID:-//Plone.org//NONSGML plone.app.event//EN
X-WR-TIMEZONE:Europe/Vienna
BEGIN:VEVENT
SUMMARY:Preisverleihung Ernst A. Plischke Preis 2014
DTSTART;TZID=Europe/Vienna:20141022T190000
DTSTAMP:20260423T113314Z
UID:de2f2b4c3180b1731bb1a67972ea8c70@www.akbild.ac.at
CATEGORIES:Vorträge / Veranstaltungen
CREATED:20220311T232639Z
DESCRIPTION:Die Ernst A. Plischke Gesellschaft lädt zur Vergabe des dritt
 en Ernst A. Plischke-Preises und der Anerkennungen ein. Zu diesem Anlass w
 ird auch eine Publikation mit allen nominierten Bauten präsentiert.
LAST-MODIFIED:20240919T081052Z
URL:https://www.akbild.ac.at/de/universitaet/veranstaltungen/vortraege-eve
 nts/2014/preisverleihung-ernst-a.-plischke-preis-2014
END:VEVENT
BEGIN:VTIMEZONE
TZID:Europe/Vienna
X-LIC-LOCATION:Europe/Vienna
BEGIN:DAYLIGHT
DTSTART:20140330T030000
TZNAME:CEST
TZOFFSETFROM:+0100
TZOFFSETTO:+0200
END:DAYLIGHT
END:VTIMEZONE
END:VCALENDAR
