BEGIN:VCALENDAR
VERSION:2.0
PRODID:-//Plone.org//NONSGML plone.app.event//EN
X-WR-TIMEZONE:Europe/Vienna
BEGIN:VEVENT
SUMMARY:Unfertig | Auktion und Podiumsdiskussion
DTSTART;TZID=Europe/Vienna:20141119T150000
DTSTAMP:20260424T202901Z
UID:9a6825494c0e9c0064522c54344d15ba@www.akbild.ac.at
CREATED:20220311T232651Z
DESCRIPTION:Plädoyer für Freiheit und Vielfalt der Kunstausbildung im Ra
 hmen der Vienna Art Week mit einer Auktion zugunsten des Vereins der Freun
 de und Freundinnen der Wiener Kunstschule – Institut für Kunstförderun
 g und einer Podiumsdiskussion in Kooperation mit der Akademie der bildende
 n Künste Wien.\n \n Ein Projekt der Freunde und Freundinnen der Wiener Ku
 nstschule - Institut für Kunstförderung\n \n Projektleiterinnen: Eleni K
 aburidis\, Petra Haider\, CAS curating
LAST-MODIFIED:20240919T081052Z
URL:https://www.akbild.ac.at/de/universitaet/veranstaltungen/vortraege-eve
 nts/2014/unfertig-auktion-und-podiumsdiskussion/SubEvent
END:VEVENT
BEGIN:VTIMEZONE
TZID:Europe/Vienna
X-LIC-LOCATION:Europe/Vienna
BEGIN:STANDARD
DTSTART:20141026T020000
TZNAME:CET
TZOFFSETFROM:+0200
TZOFFSETTO:+0100
END:STANDARD
END:VTIMEZONE
END:VCALENDAR
