BEGIN:VCALENDAR
VERSION:2.0
PRODID:-//Plone.org//NONSGML plone.app.event//EN
X-WR-TIMEZONE:Europe/Vienna
BEGIN:VEVENT
SUMMARY:Akademie Auktion 2015
DTSTART;TZID=Europe/Vienna:20150123T190000
DTSTAMP:20260424T173945Z
UID:db6de2b88bd7b40bbf143e0be562f81f@www.akbild.ac.at
CATEGORIES:Vorträge / Veranstaltungen
CREATED:20220311T233058Z
DESCRIPTION:Zugunsten Studierender aus Drittländern in prekärer Lage und
 /oder mit \nAsylhintergrund richtet die Akademie der bildenden Künste Wie
 n am Rundgang 2015 erneut die Akademie Auktion mit Arbeiten \nvon jungen u
 nd arrivierten Künstler_innen aus.
LAST-MODIFIED:20240919T081045Z
URL:https://www.akbild.ac.at/de/universitaet/veranstaltungen/vortraege-eve
 nts/2015/akademie-auktion-2015
END:VEVENT
BEGIN:VTIMEZONE
TZID:Europe/Vienna
X-LIC-LOCATION:Europe/Vienna
BEGIN:STANDARD
DTSTART:20141026T020000
TZNAME:CET
TZOFFSETFROM:+0200
TZOFFSETTO:+0100
END:STANDARD
END:VTIMEZONE
END:VCALENDAR
