BEGIN:VCALENDAR
VERSION:2.0
PRODID:-//Plone.org//NONSGML plone.app.event//EN
X-WR-TIMEZONE:Europe/Vienna
BEGIN:VEVENT
SUMMARY:Utopia Sound
DTSTART;TZID=Europe/Vienna:20150914T190000
DTSTAMP:20260426T020200Z
UID:0dcb0441adc847f6e6ef6a2025bfa4ad@www.akbild.ac.at
CATEGORIES:Vorträge / Veranstaltungen
CREATED:20220311T233154Z
DESCRIPTION:Elektro-philosophische Performance von\n \n Silyconductor\, so
 und art\n \n Ben G. Fodor\, visuals\, live-painting\n \n Karl Menrad\, act
 ing\, recitation\n\n\n Eintritt € 9\,--\n \n Freier Eintritt für Lehren
 de und StudentInnen der Akademie der bildenden Künste Wien
LAST-MODIFIED:20240919T081045Z
URL:https://www.akbild.ac.at/de/universitaet/veranstaltungen/vortraege-eve
 nts/2015/utopia-sound
END:VEVENT
BEGIN:VTIMEZONE
TZID:Europe/Vienna
X-LIC-LOCATION:Europe/Vienna
BEGIN:DAYLIGHT
DTSTART:20150329T030000
TZNAME:CEST
TZOFFSETFROM:+0100
TZOFFSETTO:+0200
END:DAYLIGHT
END:VTIMEZONE
END:VCALENDAR
