BEGIN:VCALENDAR
VERSION:2.0
PRODID:-//Plone.org//NONSGML plone.app.event//EN
X-WR-TIMEZONE:Europe/Vienna
BEGIN:VEVENT
SUMMARY:]a[uktion 2016
DTSTART;TZID=Europe/Vienna:20160122T190000
DTSTAMP:20260423T211232Z
UID:44393a896f85d11ebe945c92708b346d@www.akbild.ac.at
CATEGORIES:Vorträge / Veranstaltungen
CREATED:20220311T233632Z
DESCRIPTION:Die Akademie Auktion 2016 unter dem Ehrenschutz von Margit Fis
 cher.\n \n \n \n Eine Veranstaltung im Rahmen des\n \n  Rundgangs (21. - 2
 4. Jänner 2016)\n \n der Akademie der bildenden Künste Wien.
LAST-MODIFIED:20240919T081042Z
URL:https://www.akbild.ac.at/de/universitaet/veranstaltungen/vortraege-eve
 nts/2016/a-uktion-2016
END:VEVENT
BEGIN:VTIMEZONE
TZID:Europe/Vienna
X-LIC-LOCATION:Europe/Vienna
BEGIN:STANDARD
DTSTART:20151025T020000
TZNAME:CET
TZOFFSETFROM:+0200
TZOFFSETTO:+0100
END:STANDARD
END:VTIMEZONE
END:VCALENDAR
