BEGIN:VCALENDAR
VERSION:2.0
PRODID:-//Plone.org//NONSGML plone.app.event//EN
X-WR-TIMEZONE:Europe/Vienna
BEGIN:VEVENT
SUMMARY:PRIVATE UTOPIA | Cultural setting of the Interior in the 19th and 
 20th Century
DTSTART;TZID=Europe/Vienna:20160119T183000
DTSTAMP:20260423T084746Z
UID:0fa320c7098e3dc9366a41611851bca1@www.akbild.ac.at
CATEGORIES:Vorträge / Veranstaltungen
CREATED:20220311T233640Z
DESCRIPTION:Begrüßung: Peter Bogner\, Direktor Friedrich Kiesler Stiftun
 g\, Wien\n \n Einführende Worte: Eva Blimlinger\, Rektorin der Akademie d
 er bildenden Künste Wien\n \n Buchpräsentation: August Sarnitz und Inge 
 Scholz-Strasser\, Herausgeber\n \n Anschließend wird zu einem kleinen Buf
 fet geladen.
LAST-MODIFIED:20240919T081042Z
URL:https://www.akbild.ac.at/de/universitaet/veranstaltungen/vortraege-eve
 nts/2016/private-utopia-cultural-setting-of-the-interior-in-the-19th-and-2
 0th-century
END:VEVENT
BEGIN:VTIMEZONE
TZID:Europe/Vienna
X-LIC-LOCATION:Europe/Vienna
BEGIN:STANDARD
DTSTART:20151025T020000
TZNAME:CET
TZOFFSETFROM:+0200
TZOFFSETTO:+0100
END:STANDARD
END:VTIMEZONE
END:VCALENDAR
