BEGIN:VCALENDAR
VERSION:2.0
PRODID:-//Plone.org//NONSGML plone.app.event//EN
X-WR-TIMEZONE:Europe/Vienna
BEGIN:VEVENT
SUMMARY:Einladung zum Jahresauftakt mit junger Kunst
DTSTART;TZID=Europe/Vienna:20180117T190000
DTSTAMP:20260424T050604Z
UID:eac8aef53309c14495fb189af158183b@www.akbild.ac.at
CATEGORIES:Vorträge / Veranstaltungen
CREATED:20220311T233818Z
DESCRIPTION:Christian Murzeks im magdas HOTEL
LAST-MODIFIED:20240919T081039Z
URL:https://www.akbild.ac.at/de/universitaet/veranstaltungen/vortraege-eve
 nts/2018/einladung-zum-jahresauftakt-mit-junger-kunst
END:VEVENT
BEGIN:VTIMEZONE
TZID:Europe/Vienna
X-LIC-LOCATION:Europe/Vienna
BEGIN:STANDARD
DTSTART:20171029T020000
TZNAME:CET
TZOFFSETFROM:+0200
TZOFFSETTO:+0100
END:STANDARD
END:VTIMEZONE
END:VCALENDAR
