BEGIN:VCALENDAR
VERSION:2.0
PRODID:-//Plone.org//NONSGML plone.app.event//EN
X-WR-TIMEZONE:Europe/Vienna
BEGIN:VEVENT
SUMMARY:Kunst und die künstlichen Grenzen nationaler Kulturbegriffe
DTSTART;TZID=Europe/Vienna:20181122T183000
DTSTAMP:20260424T113304Z
UID:11915ce2e471e1adb5305f04fc60e095@www.akbild.ac.at
CATEGORIES:Vorträge / Veranstaltungen
CREATED:20220311T233841Z
DESCRIPTION:Mit Beatriz Colomina\, Catherine David\, Ruth Wodak im Rahmen 
 der Biennale Lectures.
LAST-MODIFIED:20240919T081039Z
URL:https://www.akbild.ac.at/de/universitaet/veranstaltungen/vortraege-eve
 nts/2018/kunst-und-die-ku308nstlichen-grenzen-nationaler-kulturbegriffe
END:VEVENT
BEGIN:VTIMEZONE
TZID:Europe/Vienna
X-LIC-LOCATION:Europe/Vienna
BEGIN:STANDARD
DTSTART:20181028T020000
TZNAME:CET
TZOFFSETFROM:+0200
TZOFFSETTO:+0100
END:STANDARD
END:VTIMEZONE
END:VCALENDAR
