BEGIN:VCALENDAR
VERSION:2.0
PRODID:-//Plone.org//NONSGML plone.app.event//EN
X-WR-TIMEZONE:Europe/Vienna
BEGIN:VEVENT
SUMMARY:Lecture Markus Öhrn
DTSTART;TZID=Europe/Vienna:20190516T180000
DTSTAMP:20260424T235811Z
UID:b227652279f6677ed636651b6db77558@www.akbild.ac.at
CATEGORIES:Vorträge / Veranstaltungen
CREATED:20220311T233924Z
DESCRIPTION:In Kooperation mit den Wiener Festwochen\n \n Sprache: Englisc
 h\n \n Eintritt frei
LAST-MODIFIED:20240919T081036Z
URL:https://www.akbild.ac.at/de/universitaet/veranstaltungen/vortraege-eve
 nts/2019/lecture-markus-oehrn
END:VEVENT
BEGIN:VTIMEZONE
TZID:Europe/Vienna
X-LIC-LOCATION:Europe/Vienna
BEGIN:DAYLIGHT
DTSTART:20190331T030000
TZNAME:CEST
TZOFFSETFROM:+0100
TZOFFSETTO:+0200
END:DAYLIGHT
END:VTIMEZONE
END:VCALENDAR
