BEGIN:VCALENDAR
VERSION:2.0
PRODID:-//Plone.org//NONSGML plone.app.event//EN
X-WR-TIMEZONE:Europe/Vienna
BEGIN:VEVENT
SUMMARY:Making Truth | Abschlusspräsentation ArtStart Studio
DTSTART;TZID=Europe/Vienna:20191120T170000
DTEND;TZID=Europe/Vienna:20191120T210000
DTSTAMP:20260420T162252Z
UID:e17d17f6c6a35f5ad65bca347edcf532@www.akbild.ac.at
CATEGORIES:Vorträge / Veranstaltungen
CREATED:20220311T234017Z
DESCRIPTION:Open Studios / Ausstellung / Konzert in der Kunstbrutstätte C
 reative Cluster Floridsdorf im Rahmen der\n \n  \n   Vienna Art Week 2019\
 n  \n \n . In dem ehemaligen Fabrikgebäude zeigen die 11 Stipendiat_innen
  des Programms\n \n  ArtStart Studio\n \n \n  2019\n \n sowie weitere  K
 ünstler_innen aus den Ateliers und Projekträumen vor Ort ihre Arbeiten.
LAST-MODIFIED:20240919T081036Z
URL:https://www.akbild.ac.at/de/universitaet/veranstaltungen/vortraege-eve
 nts/2019/making-truth-abschlusspraesentation-artstart-studio
END:VEVENT
BEGIN:VTIMEZONE
TZID:Europe/Vienna
X-LIC-LOCATION:Europe/Vienna
BEGIN:STANDARD
DTSTART:20191027T020000
TZNAME:CET
TZOFFSETFROM:+0200
TZOFFSETTO:+0100
END:STANDARD
END:VTIMEZONE
END:VCALENDAR
