BEGIN:VCALENDAR
VERSION:2.0
PRODID:-//Plone.org//NONSGML plone.app.event//EN
X-WR-TIMEZONE:Europe/Vienna
BEGIN:VEVENT
SUMMARY:f*lit. Feministisch über Literatur sprechen
DTSTART;TZID=Europe/Vienna:20210618T170000
DTSTAMP:20260424T160247Z
UID:daf0a1e3c0cae7dc23640d1eea38bb92@www.akbild.ac.at
CATEGORIES:Vorträge / Veranstaltungen
CREATED:20220311T234232Z
DESCRIPTION:Silvia Federici: Beyond the periphery of the skin (e)\n\n\n Ei
 ne Veranstaltung im Rahmen von\n \n  \n   \n    \n     100 Jahre Zulassung
  von Frauen an der Akademie der bildenden Künste Wien
LAST-MODIFIED:20240919T081032Z
URL:https://www.akbild.ac.at/de/universitaet/veranstaltungen/vortraege-eve
 nts/2021/f-lit.-feministisch-ueber-literatur-sprechen
END:VEVENT
BEGIN:VTIMEZONE
TZID:Europe/Vienna
X-LIC-LOCATION:Europe/Vienna
BEGIN:DAYLIGHT
DTSTART:20210328T030000
TZNAME:CEST
TZOFFSETFROM:+0100
TZOFFSETTO:+0200
END:DAYLIGHT
END:VTIMEZONE
END:VCALENDAR
