BEGIN:VCALENDAR
VERSION:2.0
PRODID:-//Plone.org//NONSGML plone.app.event//EN
X-WR-TIMEZONE:Europe/Vienna
BEGIN:VEVENT
SUMMARY:Feminist Night Scapes. Spaziergang für eine nicht-sexistische Sta
 dt
DTSTART;TZID=Europe/Vienna:20210430T180000
DTEND;TZID=Europe/Vienna:20210430T193000
DTSTAMP:20260419T132254Z
UID:f0d1d458bb2610e3a31142a16b099981@www.akbild.ac.at
CATEGORIES:Vorträge / Veranstaltungen
CREATED:20220311T234159Z
DESCRIPTION:Eine Veranstaltung im Rahmen von\n \n  \n   100 Jahre Zulassun
 g von Frauen an der Akademie der bildenden Künste Wien\n  \n \n\n\n \n  A
 nmeldung unter:\n \n \n  https://www.eventbrite.at/e/feminist-night-scapes
 -tickets-150307615123?aff=ebdssbonlinesearch
LAST-MODIFIED:20240919T081032Z
URL:https://www.akbild.ac.at/de/universitaet/veranstaltungen/vortraege-eve
 nts/2021/feminist-night-scapes.-spaziergang-fuer-eine-nicht-sexistische-st
 adt
END:VEVENT
BEGIN:VTIMEZONE
TZID:Europe/Vienna
X-LIC-LOCATION:Europe/Vienna
BEGIN:DAYLIGHT
DTSTART:20210328T030000
TZNAME:CEST
TZOFFSETFROM:+0100
TZOFFSETTO:+0200
END:DAYLIGHT
END:VTIMEZONE
END:VCALENDAR
