BEGIN:VCALENDAR
VERSION:2.0
PRODID:-//Plone.org//NONSGML plone.app.event//EN
X-WR-TIMEZONE:Europe/Vienna
BEGIN:VEVENT
SUMMARY:KinderuniKunst 2021
DTSTART;VALUE=DATE:20120709
DTEND;VALUE=DATE:20210706
DTSTAMP:20260423T144643Z
UID:45dea98d451fba1c339c2d6be728b028@www.akbild.ac.at
CREATED:20220311T234239Z
DESCRIPTION:Nähere Informationen und Anmeldung unter\n \n  http://www.kin
 derunikunst.at\n \n \n  \n  Anmeldestart am Dienstag\, 25. Mai ab 10:00h
LAST-MODIFIED:20240919T081032Z
URL:https://www.akbild.ac.at/de/universitaet/veranstaltungen/vortraege-eve
 nts/2021/kinderunikunst-2021/SubEvent
END:VEVENT
END:VCALENDAR
