BEGIN:VCALENDAR
VERSION:2.0
PRODID:-//Plone.org//NONSGML plone.app.event//EN
X-WR-TIMEZONE:Europe/Vienna
BEGIN:VEVENT
SUMMARY:Salon der offenen Secrets/Geheimnisse - SOS: “Neuer Materialismu
 s\, feministische Pratiken”
DTSTART;TZID=Europe/Vienna:20210310T170000
DTSTAMP:20260424T203011Z
UID:e5bc9d078e4298a4d41d7603e03fbe5b@www.akbild.ac.at
CATEGORIES:Vorträge / Veranstaltungen
CREATED:20220311T234147Z
DESCRIPTION:mit Karin Reisinger\, Patricia J. Reis\, Taguhi Torosyan\, Ste
 fanie Wuschitz\, Barbara Huber und\n \n  Karina Jarrett\n  \n   \n  \n \n\
 n\n Eine Veranstaltung im Rahmen von\n \n  100 Jahre Zulassung von Frauen 
 an der Akademie der bildenden Künste Wien
LAST-MODIFIED:20240919T081032Z
URL:https://www.akbild.ac.at/de/universitaet/veranstaltungen/vortraege-eve
 nts/2021/salon-der-offenen-secrets-geheimnisse-sos-201cneuer-materialismus
 -feministische-pratiken201d
END:VEVENT
BEGIN:VTIMEZONE
TZID:Europe/Vienna
X-LIC-LOCATION:Europe/Vienna
BEGIN:STANDARD
DTSTART:20201025T020000
TZNAME:CET
TZOFFSETFROM:+0200
TZOFFSETTO:+0100
END:STANDARD
END:VTIMEZONE
END:VCALENDAR
