BEGIN:VCALENDAR
VERSION:2.0
PRODID:-//Plone.org//NONSGML plone.app.event//EN
X-WR-TIMEZONE:Europe/Vienna
BEGIN:VEVENT
SUMMARY:Walk & Talk zum Bärenbrunnen der Bildhauerin Hanna Gärtner
DTSTART;TZID=Europe/Vienna:20210616T170000
DTSTAMP:20260424T064123Z
UID:d13b8f7bfde58903ba84428bc5cb7639@www.akbild.ac.at
CATEGORIES:Vorträge / Veranstaltungen
CREATED:20220311T234225Z
DESCRIPTION:with Ao.Univ.Prof. Dr. Sabine Plakolm\, Institut für Kunstges
 chichte\, Bauforschung und Denkmalpflege\, Technische Universität Wien\n\
 n\n Eine Veranstaltung im Rahmen von\n \n  \n   \n    \n     \n      \n   
     \n        100 Jahre Zulassung von Frauen an der Akademie der bildenden
  Künste Wien
LAST-MODIFIED:20240919T081032Z
URL:https://www.akbild.ac.at/de/universitaet/veranstaltungen/vortraege-eve
 nts/2021/walk-talk-zum-baerenbrunnen-der-bildhauerin-hanna-gaertner
END:VEVENT
BEGIN:VTIMEZONE
TZID:Europe/Vienna
X-LIC-LOCATION:Europe/Vienna
BEGIN:DAYLIGHT
DTSTART:20210328T030000
TZNAME:CEST
TZOFFSETFROM:+0100
TZOFFSETTO:+0200
END:DAYLIGHT
END:VTIMEZONE
END:VCALENDAR
