BEGIN:VCALENDAR
VERSION:2.0
PRODID:-//Plone.org//NONSGML plone.app.event//EN
X-WR-TIMEZONE:Europe/Vienna
BEGIN:VEVENT
SUMMARY:Wie sind unsere Städte sexistisch? - Stadterkundungen aus der Per
 spektive der Flaneurin 5.6.
DTSTART;TZID=Europe/Vienna:20210605T160000
DTSTAMP:20260424T145208Z
UID:2e139200de3e3c8129ff4a139537ad9f@www.akbild.ac.at
CATEGORIES:Vorträge / Veranstaltungen
CREATED:20220311T234221Z
DESCRIPTION:Stadtspaziergang zusammen mit Carla Schwaderer -\n \n  Feminis
 t Publicness - Accessibility and usage of public spac\n \n e\n\n\n \n  Ein
 e Veranstaltung im Rahmen von\n \n \n \n \n  \n   \n    \n     100 Jahre Z
 ulassung von Frauen an der Akademie der bildenden Künste Wien
LAST-MODIFIED:20240919T081032Z
URL:https://www.akbild.ac.at/de/universitaet/veranstaltungen/vortraege-eve
 nts/2021/wie-sexistisch-sind-unsere-staedte-stadterkundungen-aus-der-persp
 ektive-der-flaneurin
END:VEVENT
BEGIN:VTIMEZONE
TZID:Europe/Vienna
X-LIC-LOCATION:Europe/Vienna
BEGIN:DAYLIGHT
DTSTART:20210328T030000
TZNAME:CEST
TZOFFSETFROM:+0100
TZOFFSETTO:+0200
END:DAYLIGHT
END:VTIMEZONE
END:VCALENDAR
