BEGIN:VCALENDAR
VERSION:2.0
PRODID:-//Plone.org//NONSGML plone.app.event//EN
X-WR-TIMEZONE:Europe/Vienna
BEGIN:VEVENT
SUMMARY:Wie sind unsere Städte sexistisch? - Stadterkundungen aus der Per
 spektive der Flaneurin
DTSTART;TZID=Europe/Vienna:20210626T150000
DTSTAMP:20260424T132557Z
UID:2062a470f922ae0aa757fa32c5b2eced@www.akbild.ac.at
CREATED:20220311T234235Z
DESCRIPTION:Stadtspaziergang zusammen mit Sabine Pollak -\n \n  A room of 
 one’s own - Urban planning through the female lens.\n \n\n\n \n  Eine Ve
 ranstaltung im Rahmen von\n \n \n \n \n  \n   \n    \n     \n      100 Jah
 re Zulassung von Frauen an der Akademie der bildenden Künste Wien
LAST-MODIFIED:20240919T081032Z
URL:https://www.akbild.ac.at/de/universitaet/veranstaltungen/vortraege-eve
 nts/2021/wie-sind-unsere-staedte-sexistisch-stadterkundungen-aus-der-persp
 ektive-der-flaneurin
END:VEVENT
BEGIN:VTIMEZONE
TZID:Europe/Vienna
X-LIC-LOCATION:Europe/Vienna
BEGIN:DAYLIGHT
DTSTART:20210328T030000
TZNAME:CEST
TZOFFSETFROM:+0100
TZOFFSETTO:+0200
END:DAYLIGHT
END:VTIMEZONE
END:VCALENDAR
