BEGIN:VCALENDAR
VERSION:2.0
PRODID:-//Plone.org//NONSGML plone.app.event//EN
X-WR-TIMEZONE:Europe/Vienna
BEGIN:VEVENT
SUMMARY:Netzwerk Animation
DTSTART;TZID=Europe/Vienna:20221129T150000
DTEND;TZID=Europe/Vienna:20221129T190000
DTSTAMP:20260423T083454Z
UID:55215d94553e4c25952000fd30ecbeff@www.akbild.ac.at
CREATED:20221121T135228Z
DESCRIPTION:Symposium Netzwerk Animation im Rahmen des 18. BEST AUSTRIAN A
 NIMATION FESTIVAL.
LAST-MODIFIED:20240919T081032Z
URL:https://www.akbild.ac.at/de/universitaet/veranstaltungen/vortraege-eve
 nts/2022/18-best-austrian-animation-festival/netzwerk-animation
END:VEVENT
BEGIN:VTIMEZONE
TZID:Europe/Vienna
X-LIC-LOCATION:Europe/Vienna
BEGIN:STANDARD
DTSTART:20221030T020000
TZNAME:CET
TZOFFSETFROM:+0200
TZOFFSETTO:+0100
END:STANDARD
END:VTIMEZONE
END:VCALENDAR
