BEGIN:VCALENDAR
VERSION:2.0
PRODID:-//Plone.org//NONSGML plone.app.event//EN
X-WR-TIMEZONE:Europe/Vienna
BEGIN:VEVENT
SUMMARY:Artist Talk & Screening Sasha Svirsky und Nadya Svirskaia
DTSTART;TZID=Europe/Vienna:20220531T180000
DTSTAMP:20260423T114454Z
UID:eecfb43029f544f981b00ae71def560e@www.akbild.ac.at
CATEGORIES:Vorträge / Veranstaltungen
CREATED:20220525T075416Z
DESCRIPTION:Filmscreening von Sasha Svirsky und Nadya Svirskaia\, Artists 
 in Residence 2022.
LAST-MODIFIED:20240919T081029Z
URL:https://www.akbild.ac.at/de/universitaet/veranstaltungen/vortraege-eve
 nts/2022/artist-talk-screening-sasha-svirsky-und-nadya-svirskaia
END:VEVENT
BEGIN:VTIMEZONE
TZID:Europe/Vienna
X-LIC-LOCATION:Europe/Vienna
BEGIN:DAYLIGHT
DTSTART:20220327T030000
TZNAME:CEST
TZOFFSETFROM:+0100
TZOFFSETTO:+0200
END:DAYLIGHT
END:VTIMEZONE
END:VCALENDAR
