BEGIN:VCALENDAR
VERSION:2.0
PRODID:-//Plone.org//NONSGML plone.app.event//EN
X-WR-TIMEZONE:Europe/Vienna
BEGIN:VEVENT
SUMMARY:Orientierungsprogramm für alle Studienanfänger_innen Oktober 202
 2
DTSTART;VALUE=DATE:20221003
DTEND;VALUE=DATE:20221015
DTSTAMP:20260423T235237Z
UID:240683d23dd04c269e20c03fe143d163@www.akbild.ac.at
CATEGORIES:Vorträge / Veranstaltungen
CREATED:20220919T083621Z
DESCRIPTION:Das Orientierungsprogramm für Studienanfänger_innen bietet d
 ie Möglichkeit alle Angebote der Akademie kennenzulernen\, offene Fragen 
 zu klären und Studierende aus anderen Studienrichtungen kennenzulernen.
LAST-MODIFIED:20240919T081029Z
URL:https://www.akbild.ac.at/de/universitaet/veranstaltungen/vortraege-eve
 nts/2022/orientierungsprogramm-fuer-alle-studienanfaenger_innen
END:VEVENT
END:VCALENDAR
