BEGIN:VCALENDAR
VERSION:2.0
PRODID:-//Plone.org//NONSGML plone.app.event//EN
X-WR-TIMEZONE:Europe/Vienna
BEGIN:VEVENT
SUMMARY:Podiumsdiskussion: Carolee Schneemann. From Then and Beyond.
DTSTART;TZID=Europe/Vienna:20221130T190000
DTSTAMP:20260423T162106Z
UID:9829a16e4f0041aa81c86062f10bb375@www.akbild.ac.at
CATEGORIES:Vorträge / Veranstaltungen
CREATED:20221129T235334Z
DESCRIPTION:Der VFMK und die Akademie der bildenden Künste Wien freuen si
 ch\, eine Buchpräsentation mit anschließender Podiumsdiskussion über da
 s Leben und Werk der Künstlerin Carolee Schneemann zu präsentieren.
LAST-MODIFIED:20240919T081032Z
URL:https://www.akbild.ac.at/de/universitaet/veranstaltungen/vortraege-eve
 nts/2022/podiumsdiskussion-carolee-schneemann-from-then-and-beyond
END:VEVENT
BEGIN:VTIMEZONE
TZID:Europe/Vienna
X-LIC-LOCATION:Europe/Vienna
BEGIN:STANDARD
DTSTART:20221030T020000
TZNAME:CET
TZOFFSETFROM:+0200
TZOFFSETTO:+0100
END:STANDARD
END:VTIMEZONE
END:VCALENDAR
