BEGIN:VCALENDAR
VERSION:2.0
PRODID:-//Plone.org//NONSGML plone.app.event//EN
X-WR-TIMEZONE:Europe/Vienna
BEGIN:VEVENT
SUMMARY:Unlesbar? Nicht für mich!
DTSTART;TZID=Europe/Vienna:20221129T143000
DTSTAMP:20260424T113224Z
UID:c63a5fb6de184ca3944362e850a423f0@www.akbild.ac.at
CATEGORIES:Vorträge / Veranstaltungen
CREATED:20221122T143018Z
DESCRIPTION:Weihnachtlicher Kurrentworkshop am 29.11.\, 6.12. und 13.12.2
 022 für alle von 10 bis 14 Jahren an der Akademie der bildenden Künste W
 ien.
LAST-MODIFIED:20240919T081032Z
URL:https://www.akbild.ac.at/de/universitaet/veranstaltungen/vortraege-eve
 nts/2022/unlesbar-nicht-fuer-mich
END:VEVENT
BEGIN:VTIMEZONE
TZID:Europe/Vienna
X-LIC-LOCATION:Europe/Vienna
BEGIN:STANDARD
DTSTART:20221030T020000
TZNAME:CET
TZOFFSETFROM:+0200
TZOFFSETTO:+0100
END:STANDARD
END:VTIMEZONE
END:VCALENDAR
