BEGIN:VCALENDAR
VERSION:2.0
PRODID:-//Plone.org//NONSGML plone.app.event//EN
X-WR-TIMEZONE:Europe/Vienna
BEGIN:VEVENT
SUMMARY:Akusmatik Festival | Young Lion_ess Wettbewerb | Künstler_innen P
 ortraits
DTSTART;VALUE=DATE:20231027
DTEND;VALUE=DATE:20231030
DTSTAMP:20260424T132557Z
UID:77fd4c2df25c481388cd9b3de530a27e@www.akbild.ac.at
CATEGORIES:Vorträge / Veranstaltungen
CREATED:20231023T091046Z
DESCRIPTION:Das große Festival für akusmatische Musik in Wien freut sich
 \, Sie für drei Konzertabende mit dem Wiener Akusmonium (Lautsprecherorch
 ester) in der Säulenhalle der Akademie begrüßen zu dürfen.
LAST-MODIFIED:20240919T081029Z
URL:https://www.akbild.ac.at/de/universitaet/veranstaltungen/vortraege-eve
 nts/2023/akusmatik-festival-young-lion_ess-wettbewerb-kuenstler_innen-port
 raits
END:VEVENT
END:VCALENDAR
