BEGIN:VCALENDAR
VERSION:2.0
PRODID:-//Plone.org//NONSGML plone.app.event//EN
X-WR-TIMEZONE:Europe/Vienna
BEGIN:VEVENT
SUMMARY:Einreichen! Künstlerische Projekte erfolgreich einreichen.
DTSTART;TZID=Europe/Vienna:20231031T150000
DTEND;TZID=Europe/Vienna:20231031T170000
DTSTAMP:20260424T100343Z
UID:97c9a15845bf40f7b92c056d90999e36@www.akbild.ac.at
CATEGORIES:Vorträge / Veranstaltungen
CREATED:20230914T100116Z
DESCRIPTION:Workshop für Studierende von Ingeborg ErhartEinblicke – Gru
 ndlagen – Methoden – Bewertung am Beispiel der Projektförderung Ausg
 ebucht! Es sind keine weiteren Anmeldungen mehr möglich.
LAST-MODIFIED:20240919T081029Z
URL:https://www.akbild.ac.at/de/universitaet/veranstaltungen/vortraege-eve
 nts/2023/einreichen-kuenstlerische-projekte-erfolgreich-einreichen
END:VEVENT
BEGIN:VTIMEZONE
TZID:Europe/Vienna
X-LIC-LOCATION:Europe/Vienna
BEGIN:STANDARD
DTSTART:20231029T020000
TZNAME:CET
TZOFFSETFROM:+0200
TZOFFSETTO:+0100
END:STANDARD
END:VTIMEZONE
END:VCALENDAR
