BEGIN:VCALENDAR
VERSION:2.0
PRODID:-//Plone.org//NONSGML plone.app.event//EN
X-WR-TIMEZONE:Europe/Vienna
BEGIN:VEVENT
SUMMARY:Nancy Fraser: The Art of Work: William Morris on Emancipated Labor
DTSTART;TZID=Europe/Vienna:20231115T183000
DTSTAMP:20260419T164101Z
UID:5d706dc0ce704c91bb33cabf2ab3051a@www.akbild.ac.at
CATEGORIES:Vorträge / Veranstaltungen
CREATED:20231018T095333Z
DESCRIPTION:Lecture im Rahmen der Reihe Foregrounding ExternalitiesVortrag
  in englischer Sprache\nEine Kooperation der Akademie der bildenden Künst
 e Wien\, der Central European University und der Secession.
LAST-MODIFIED:20240919T081029Z
URL:https://www.akbild.ac.at/de/universitaet/veranstaltungen/vortraege-eve
 nts/2023/nancy-fraser-the-art-of-work-william-morris-on-emancipated-labor
END:VEVENT
BEGIN:VTIMEZONE
TZID:Europe/Vienna
X-LIC-LOCATION:Europe/Vienna
BEGIN:STANDARD
DTSTART:20231029T020000
TZNAME:CET
TZOFFSETFROM:+0200
TZOFFSETTO:+0100
END:STANDARD
END:VTIMEZONE
END:VCALENDAR
