BEGIN:VCALENDAR
VERSION:2.0
PRODID:-//Plone.org//NONSGML plone.app.event//EN
X-WR-TIMEZONE:Europe/Vienna
BEGIN:VEVENT
SUMMARY:Natur und Mensch – Wie positionieren sich bildende Künstler_inn
 en der Gegenwart in diesem komplexen Bezugsfeld?
DTSTART;TZID=Europe/Vienna:20230621T190000
DTSTAMP:20260423T230458Z
UID:aa63d26ce8f74f19b977c22bf4fe2cf5@www.akbild.ac.at
CATEGORIES:Vorträge / Veranstaltungen
CREATED:20230524T094846Z
DESCRIPTION:Eine Kooperation der Wiener Zeitung\, der Akademie der bildend
 en Künste Wien und des Künstlerhaus Wien
LAST-MODIFIED:20240919T081025Z
URL:https://www.akbild.ac.at/de/universitaet/veranstaltungen/vortraege-eve
 nts/2023/natur-und-mensch-wie-positionieren-sich-bildende-kuenstler_innen-
 der-gegenwart-in-diesem-komplexen-bezugsfeld
END:VEVENT
BEGIN:VTIMEZONE
TZID:Europe/Vienna
X-LIC-LOCATION:Europe/Vienna
BEGIN:DAYLIGHT
DTSTART:20230326T030000
TZNAME:CEST
TZOFFSETFROM:+0100
TZOFFSETTO:+0200
END:DAYLIGHT
END:VTIMEZONE
END:VCALENDAR
