BEGIN:VCALENDAR
VERSION:2.0
PRODID:-//Plone.org//NONSGML plone.app.event//EN
X-WR-TIMEZONE:Europe/Vienna
BEGIN:VEVENT
SUMMARY:Unsere Bilder\, unser Recht\, unser Einkommen
DTSTART;TZID=Europe/Vienna:20231121T133000
DTEND;TZID=Europe/Vienna:20231121T150000
DTSTAMP:20260423T101234Z
UID:c8c341cd3fe94eee909ba2780627f11d@www.akbild.ac.at
CATEGORIES:Vorträge / Veranstaltungen
CREATED:20231027T090422Z
DESCRIPTION:Vortrag von Peter Gumpinger. Organisiert vom Wissenstransferze
 ntrum der Akademie der bildenden Künste Wien in Kooperation mit Bildrecht
  - Gesellschaft zur Wahrnehmung visueller Rechte.
LAST-MODIFIED:20240919T081029Z
URL:https://www.akbild.ac.at/de/universitaet/veranstaltungen/vortraege-eve
 nts/2023/unsere-bilder-unser-recht-unser-einkommen
END:VEVENT
BEGIN:VTIMEZONE
TZID:Europe/Vienna
X-LIC-LOCATION:Europe/Vienna
BEGIN:STANDARD
DTSTART:20231029T020000
TZNAME:CET
TZOFFSETFROM:+0200
TZOFFSETTO:+0100
END:STANDARD
END:VTIMEZONE
END:VCALENDAR
