BEGIN:VCALENDAR
VERSION:2.0
PRODID:-//Plone.org//NONSGML plone.app.event//EN
X-WR-TIMEZONE:Europe/Vienna
BEGIN:VEVENT
SUMMARY:CHANGES for women
DTSTART;TZID=Europe/Vienna:20240428T180000
DTEND;TZID=Europe/Vienna:20240428T220000
DTSTAMP:20260422T073728Z
UID:d3cd6518d2ce4aacba4d4e9310099c24@www.akbild.ac.at
CATEGORIES:Vorträge / Veranstaltungen
CREATED:20240411T075348Z
DESCRIPTION:Der gemeinnützige Wiener Verein CHANGES for women und der Kab
 arettist Berni Wagner laden zurgroßen Benefizgala ein. Gemeinsam mit Mala
 rina\, Maria Muhar\, Schwesta Ebra und Christoph Fritz servieren wir eine 
 delikate Auswahl  der aktuellen österreichischen Kabarettszene.
LAST-MODIFIED:20250416T065033Z
URL:https://www.akbild.ac.at/de/universitaet/veranstaltungen/vortraege-eve
 nts/2024/changes-for-women
END:VEVENT
BEGIN:VTIMEZONE
TZID:Europe/Vienna
X-LIC-LOCATION:Europe/Vienna
BEGIN:DAYLIGHT
DTSTART:20240331T030000
TZNAME:CEST
TZOFFSETFROM:+0100
TZOFFSETTO:+0200
END:DAYLIGHT
END:VTIMEZONE
END:VCALENDAR
