BEGIN:VCALENDAR
VERSION:2.0
PRODID:-//Plone.org//NONSGML plone.app.event//EN
X-WR-TIMEZONE:Europe/Vienna
BEGIN:VEVENT
SUMMARY:Die Akademie auf der BeSt³ 2024
DTSTART;VALUE=DATE:20240307
DTEND;VALUE=DATE:20240311
DTSTAMP:20260423T030007Z
UID:c4366ba83043413e89e9616086c4fee2@www.akbild.ac.at
CATEGORIES:Vorträge / Veranstaltungen
CREATED:20230213T074941Z
DESCRIPTION:Auch heuer ist die Akademie der bildenden Künste Wien auf der
  BeSt³ Messe Wien mit einem eigenen Stand (K20) vertreten. Studierende be
 raten Interessierte zu den Studienangeboten an Österreichs traditionsreic
 her Kunstuniversität.
LAST-MODIFIED:20240919T081022Z
URL:https://www.akbild.ac.at/de/universitaet/veranstaltungen/vortraege-eve
 nts/2024/die-akademie-auf-der-best3-wien
END:VEVENT
END:VCALENDAR
