BEGIN:VCALENDAR
VERSION:2.0
PRODID:-//Plone.org//NONSGML plone.app.event//EN
X-WR-TIMEZONE:Europe/Vienna
BEGIN:VEVENT
SUMMARY:Einreichen! Künstlerische Projekte erfolgreich einreichen.
DTSTART;TZID=Europe/Vienna:20241028T100000
DTEND;TZID=Europe/Vienna:20241028T120000
DTSTAMP:20260423T221042Z
UID:adb83a34ef4f4d40b6dde63f488507ef@www.akbild.ac.at
CATEGORIES:Vorträge / Veranstaltungen
CREATED:20241002T102207Z
DESCRIPTION:Ein Workshop für Studierende von Ingeborg Erhart. Einblicke 
 – Grundlagen – Methoden – Bewertung am Beispiel der Projektförderun
 g
LAST-MODIFIED:20241023T121816Z
URL:https://www.akbild.ac.at/de/universitaet/veranstaltungen/vortraege-eve
 nts/2024/einreichen-kuenstlerische-projekte-erfolgreich-einreichen
END:VEVENT
BEGIN:VTIMEZONE
TZID:Europe/Vienna
X-LIC-LOCATION:Europe/Vienna
BEGIN:STANDARD
DTSTART:20241027T020000
TZNAME:CET
TZOFFSETFROM:+0200
TZOFFSETTO:+0100
END:STANDARD
END:VTIMEZONE
END:VCALENDAR
