BEGIN:VCALENDAR
VERSION:2.0
PRODID:-//Plone.org//NONSGML plone.app.event//EN
X-WR-TIMEZONE:Europe/Vienna
BEGIN:VEVENT
SUMMARY:Expert_innengespräch: Künstlerische Vor- und Nachlässe
DTSTART;TZID=Europe/Vienna:20240926T173000
DTSTAMP:20260425T225917Z
UID:2e511c6ba5234536a90385b4710984ba@www.akbild.ac.at
CATEGORIES:Vorträge / Veranstaltungen
CREATED:20240925T132920Z
DESCRIPTION:Eine Veranstaltung im Rahmen von Curated by.
LAST-MODIFIED:20240925T133347Z
URL:https://www.akbild.ac.at/de/universitaet/veranstaltungen/vortraege-eve
 nts/2024/expert_innengespraech-kuenstlerische-vor-und-nachlaesse
END:VEVENT
BEGIN:VTIMEZONE
TZID:Europe/Vienna
X-LIC-LOCATION:Europe/Vienna
BEGIN:DAYLIGHT
DTSTART:20240331T030000
TZNAME:CEST
TZOFFSETFROM:+0100
TZOFFSETTO:+0200
END:DAYLIGHT
END:VTIMEZONE
END:VCALENDAR
