BEGIN:VCALENDAR
VERSION:2.0
PRODID:-//Plone.org//NONSGML plone.app.event//EN
X-WR-TIMEZONE:Europe/Vienna
BEGIN:VEVENT
SUMMARY:Grauzonen gibt es nicht… ein Follow-Up-Workshop mit Sara Hassan
DTSTART;TZID=Europe/Vienna:20241213T153000
DTEND;TZID=Europe/Vienna:20241213T180000
DTSTAMP:20260422T002029Z
UID:8e71ab3084304c5cb5ae774a93235f97@www.akbild.ac.at
CATEGORIES:Workshops
CREATED:20241209T084025Z
DESCRIPTION:Der Workshop mit Sara Hassan richtet sich an BIPoC.
LAST-MODIFIED:20241209T085712Z
URL:https://www.akbild.ac.at/de/universitaet/veranstaltungen/vortraege-eve
 nts/2024/grauzonen-gibt-es-nicht-ein-follow-up-workshop-mit-sara-hassan
END:VEVENT
BEGIN:VTIMEZONE
TZID:Europe/Vienna
X-LIC-LOCATION:Europe/Vienna
BEGIN:STANDARD
DTSTART:20241027T020000
TZNAME:CET
TZOFFSETFROM:+0200
TZOFFSETTO:+0100
END:STANDARD
END:VTIMEZONE
END:VCALENDAR
