BEGIN:VCALENDAR
VERSION:2.0
PRODID:-//Plone.org//NONSGML plone.app.event//EN
X-WR-TIMEZONE:Europe/Vienna
BEGIN:VEVENT
SUMMARY:D-Arts - Impulsvortrag - Diversität in der österreichischen Kult
 urlandschaft?
DTSTART;TZID=Europe/Vienna:20240524T200000
DTEND;TZID=Europe/Vienna:20240524T210000
DTSTAMP:20260423T204510Z
UID:67b7c39a2a724731962ff352a55dc971@www.akbild.ac.at
CATEGORIES:Vorträge / Veranstaltungen
CREATED:20240422T112659Z
DESCRIPTION:Als Projektkooperationspartner_innen des Ausstellungsprojekts 
 Soundscapes of Intersectional Encounters: Exploring Identity Through Sound
  ist D/Arts wichtige zeitgenössische Inputgeber_in auf lokaler Ebene. Der
  Austausch zwischen der Akademie\, als Wissensgenerator_in\, anderen Kultu
 rbetrieben sowie Gruppen die nicht in der angenommenen Mitte einer Kulturl
 andschaft stehen ist spannend und soll hier diskutiert werden.
LAST-MODIFIED:20240919T081025Z
URL:https://www.akbild.ac.at/de/universitaet/veranstaltungen/vortraege-eve
 nts/2024/lange-nacht-der-forschung-2024/d-arts-impulsvortrag-diversitaet-i
 n-der-oesterreichischen-kulturlandschaft
END:VEVENT
BEGIN:VTIMEZONE
TZID:Europe/Vienna
X-LIC-LOCATION:Europe/Vienna
BEGIN:DAYLIGHT
DTSTART:20240331T030000
TZNAME:CEST
TZOFFSETFROM:+0100
TZOFFSETTO:+0200
END:DAYLIGHT
END:VTIMEZONE
END:VCALENDAR
