BEGIN:VCALENDAR
VERSION:2.0
PRODID:-//Plone.org//NONSGML plone.app.event//EN
X-WR-TIMEZONE:Europe/Vienna
BEGIN:VEVENT
SUMMARY:Science Cube - Präsentationen des Instituts für Naturwissenschaf
 ten und Technologie in der Kunst
DTSTART;TZID=Europe/Vienna:20240524T170000
DTEND;TZID=Europe/Vienna:20240524T220000
DTSTAMP:20260423T204518Z
UID:c843a454d28d4d5aab229f3095fa8f91@www.akbild.ac.at
CATEGORIES:Vorträge / Veranstaltungen
CREATED:20240422T083227Z
DESCRIPTION:In und um den Science Cube präsentiert das Institut für Natu
 rwissenschaften und Technologie in der Kunst seine Forschung und aktuelle 
 Projekte zu Materialwissenschaften in der Kunst in Form von Kurzfilmen und
  Postern.
LAST-MODIFIED:20240919T081025Z
URL:https://www.akbild.ac.at/de/universitaet/veranstaltungen/vortraege-eve
 nts/2024/lange-nacht-der-forschung-2024/science-cube-praesentationen-des-i
 nstituts-fuer-naturwissenschaften-und-technologie-in-der-kunst
END:VEVENT
BEGIN:VTIMEZONE
TZID:Europe/Vienna
X-LIC-LOCATION:Europe/Vienna
BEGIN:DAYLIGHT
DTSTART:20240331T030000
TZNAME:CEST
TZOFFSETFROM:+0100
TZOFFSETTO:+0200
END:DAYLIGHT
END:VTIMEZONE
END:VCALENDAR
