BEGIN:VCALENDAR
VERSION:2.0
PRODID:-//Plone.org//NONSGML plone.app.event//EN
X-WR-TIMEZONE:Europe/Vienna
BEGIN:VEVENT
SUMMARY:Workshop 2 zum Call für gestaltungsorientierte Publikationen Fine
  Companions 2024
DTSTART;TZID=Europe/Vienna:20241025T090000
DTEND;TZID=Europe/Vienna:20241025T120000
DTSTAMP:20260423T114608Z
UID:d4bd5285c02c42ec8498d8d2f31a3460@www.akbild.ac.at
CATEGORIES:Workshops
CREATED:20241015T094205Z
DESCRIPTION:Der Call für Einreichungen zur Serie der gestaltungsorientier
 ten Bände der Akademie der bildenden Künste Wien ist noch bis 6.11.2024 
 geöffnet\, er richtet sich an Mitarbeiter_innen (einschließlich Projektm
 itarbeiter_innen) und Studierende der Akademie. Zur Vorbereitung der Einre
 ichungen gibt es die Möglichkeit\, an zwei Workshops mit der Buchgestalte
 rin Astrid Seme und Thomas Geiger von Mark Pezinger Books teilzunehmen.
LAST-MODIFIED:20241015T113847Z
URL:https://www.akbild.ac.at/de/universitaet/veranstaltungen/vortraege-eve
 nts/2024/workshop-2-zum-call-fuer-gestaltungsorientierte-publikationen-fin
 e-companions-2024
END:VEVENT
BEGIN:VTIMEZONE
TZID:Europe/Vienna
X-LIC-LOCATION:Europe/Vienna
BEGIN:DAYLIGHT
DTSTART:20240331T030000
TZNAME:CEST
TZOFFSETFROM:+0100
TZOFFSETTO:+0200
END:DAYLIGHT
END:VTIMEZONE
END:VCALENDAR
