BEGIN:VCALENDAR
VERSION:2.0
PRODID:-//Plone.org//NONSGML plone.app.event//EN
X-WR-TIMEZONE:Europe/Vienna
BEGIN:VEVENT
SUMMARY:Buchpräsentation und Lesung [em]Vol.28 Standpoint Autotheory. Wri
 ting Embodied Experiences and Relational Artistic Practices[/em]
DTSTART;TZID=Europe/Vienna:20251106T170000
DTSTAMP:20260423T173823Z
UID:2191fd1216c141e0b7dd813c999868f9@www.akbild.ac.at
CATEGORIES:Vorträge / Veranstaltungen
CREATED:20251009T132357Z
DESCRIPTION:OUT NOW!! Band 28 der Schriftenreihe der Akademie der bildende
 n Künste Wien
LAST-MODIFIED:20251107T080409Z
URL:https://www.akbild.ac.at/de/universitaet/veranstaltungen/vortraege-eve
 nts/2025/buchpraesentation-vol-28-standpoint-autotheory
END:VEVENT
BEGIN:VTIMEZONE
TZID:Europe/Vienna
X-LIC-LOCATION:Europe/Vienna
BEGIN:STANDARD
DTSTART:20251026T020000
TZNAME:CET
TZOFFSETFROM:+0200
TZOFFSETTO:+0100
END:STANDARD
END:VTIMEZONE
END:VCALENDAR
